BEGIN:VCALENDAR
VERSION:2.0
PRODID:-//Harmonie en Drumband St. Agnes Bunde - ECPv6.15.20//NONSGML v1.0//EN
CALSCALE:GREGORIAN
METHOD:PUBLISH
X-ORIGINAL-URL:https://www.harmoniebunde.nl
X-WR-CALDESC:Evenementen voor Harmonie en Drumband St. Agnes Bunde
REFRESH-INTERVAL;VALUE=DURATION:PT1H
X-Robots-Tag:noindex
X-PUBLISHED-TTL:PT1H
BEGIN:VTIMEZONE
TZID:Europe/Amsterdam
BEGIN:DAYLIGHT
TZOFFSETFROM:+0100
TZOFFSETTO:+0200
TZNAME:CEST
DTSTART:20250330T010000
END:DAYLIGHT
BEGIN:STANDARD
TZOFFSETFROM:+0200
TZOFFSETTO:+0100
TZNAME:CET
DTSTART:20251026T010000
END:STANDARD
BEGIN:DAYLIGHT
TZOFFSETFROM:+0100
TZOFFSETTO:+0200
TZNAME:CEST
DTSTART:20260329T010000
END:DAYLIGHT
BEGIN:STANDARD
TZOFFSETFROM:+0200
TZOFFSETTO:+0100
TZNAME:CET
DTSTART:20261025T010000
END:STANDARD
BEGIN:DAYLIGHT
TZOFFSETFROM:+0100
TZOFFSETTO:+0200
TZNAME:CEST
DTSTART:20270328T010000
END:DAYLIGHT
BEGIN:STANDARD
TZOFFSETFROM:+0200
TZOFFSETTO:+0100
TZNAME:CET
DTSTART:20271031T010000
END:STANDARD
END:VTIMEZONE
BEGIN:VEVENT
DTSTART;TZID=Europe/Amsterdam:20260530T130000
DTEND;TZID=Europe/Amsterdam:20260530T170000
DTSTAMP:20260422T150859
CREATED:20260107T192646Z
LAST-MODIFIED:20260107T192646Z
UID:8031-1780146000-1780160400@www.harmoniebunde.nl
SUMMARY:Agnes Familiedag
DESCRIPTION:
URL:https://www.harmoniebunde.nl/?tribe_events=agnes-familiedag
CATEGORIES:Agenda
END:VEVENT
BEGIN:VEVENT
DTSTART;TZID=Europe/Amsterdam:20260704T200000
DTEND;TZID=Europe/Amsterdam:20260704T235900
DTSTAMP:20260422T150859
CREATED:20260107T192734Z
LAST-MODIFIED:20260107T192734Z
UID:8033-1783195200-1783209540@www.harmoniebunde.nl
SUMMARY:Afscheidsconcert Jacques Claessens
DESCRIPTION:
URL:https://www.harmoniebunde.nl/?tribe_events=afscheidsconcert-jacques-claessens
LOCATION:De Agnespoort\, Sint Agnesplein 15\, Bunde\, Limburg\, 6241CA\, Netherlands
CATEGORIES:Agenda,Eerstvolgende optredens
END:VEVENT
BEGIN:VEVENT
DTSTART;TZID=Europe/Amsterdam:20261031T200000
DTEND;TZID=Europe/Amsterdam:20261031T235900
DTSTAMP:20260422T150859
CREATED:20260107T192826Z
LAST-MODIFIED:20260417T115154Z
UID:8035-1793476800-1793491140@www.harmoniebunde.nl
SUMMARY:Thema Concert Halloween
DESCRIPTION:
URL:https://www.harmoniebunde.nl/?tribe_events=thema-concert-halloween
LOCATION:De Agnespoort\, Sint Agnesplein 15\, Bunde\, Limburg\, 6241CA\, Netherlands
CATEGORIES:Agenda,Eerstvolgende optredens
END:VEVENT
END:VCALENDAR